BEGIN:VCALENDAR
VERSION:2.0
PRODID:-//Uptown Partners of Pittsburgh - ECPv6.15.1.1//NONSGML v1.0//EN
CALSCALE:GREGORIAN
METHOD:PUBLISH
X-ORIGINAL-URL:https://www.uptownpartners.org
X-WR-CALDESC:Events for Uptown Partners of Pittsburgh
REFRESH-INTERVAL;VALUE=DURATION:PT1H
X-Robots-Tag:noindex
X-PUBLISHED-TTL:PT1H
BEGIN:VTIMEZONE
TZID:UTC
BEGIN:STANDARD
TZOFFSETFROM:+0000
TZOFFSETTO:+0000
TZNAME:UTC
DTSTART:20250101T000000
END:STANDARD
END:VTIMEZONE
BEGIN:VEVENT
DTSTART;TZID=UTC:20251202T180000
DTEND;TZID=UTC:20251202T210000
DTSTAMP:20260425T024912
CREATED:20251121T192706Z
LAST-MODIFIED:20251121T192706Z
UID:3343-1764698400-1764709200@www.uptownpartners.org
SUMMARY:Uptown Partners Giving Tuesday Event
DESCRIPTION:  \n \n  \n🌟 Why Giving Tuesday in Uptown Matters — And How You Can Be Part of the Impact! 🌟 \nGiving Tuesday is right around the corner\, and we’re gearing up for an unforgettable evening of community\, connection\, and collective action! On December 2nd\, 2025\, Uptown Partners of Pittsburgh will gather friends\, neighbors\, and supporters at Trace Echo for our annual Giving Day Event—and we’d love for YOU to be part of it. \n  \n💚 More Than an Event — A Movement for Uptown’s Future \nWhen we come together on Giving Tuesday\, we do so with purpose. This year\, we’re focusing our energy on two powerful community-building initiatives: \n🌱 Transforming the Tustin Street Garden \nWith your support\, we’re reimagining this beautiful green space with a fresh layout that invites connection\, learning\, and healing. \n💼 Growing the EMPOWER Workforce Development Program \nYour contributions help us expand services for future cohorts\, opening new pathways for job readiness\, career skills\, and long-term success. \nThese projects don’t just improve Uptown—they strengthen families\, elevate futures\, and help our community thrive in ways that ripple far beyond a single day. \n  \n🍹 Come Connect\, Celebrate\, Contribute & Win! \nJoin us at Trace Echo for an evening of fun and purpose. Grab a drink\, meet new neighbors\, chat with local leaders\, and learn firsthand how your time\, donations\, and voice help fuel real change. Whether you’re ready to volunteer\, donate goods\, or simply show your support by attending\, your presence makes a meaningful difference. We are raffling off cool gifts\, like Pens hockey tickets or Pitt basketball tickets\, to everyone who attends and makes a donation. \n  \n🎉 RSVP Today — It’s Free! \nWe want to make sure we can welcome everyone properly\, so be sure to RSVP through our Eventbrite with the link below. Let’s come together and show what Uptown can accomplish when community leads the way. \nhttps://www.eventbrite.com/e/uptown-partners-giving-tuesday-fundraising-event-tickets-1969495046702?utm-campaign=social&utm-content=attendeeshare&utm-medium=discovery&utm-term=listing&utm-source=cp&aff=ebdsshcopyurl \n  \nWe can’t wait to see you on December 2nd!
URL:https://www.uptownpartners.org/event/uptown-partners-giving-tuesday-event/
LOCATION:1738 Forbes Ave
END:VEVENT
BEGIN:VEVENT
DTSTART;TZID=UTC:20251204T120000
DTEND;TZID=UTC:20251204T150000
DTSTAMP:20260425T024912
CREATED:20250829T193234Z
LAST-MODIFIED:20250829T193234Z
UID:3321-1764849600-1764860400@www.uptownpartners.org
SUMMARY:Uptown Free Food Distribution
DESCRIPTION:  \nIn collaboration with the Greater Pittsburgh Community Food Bank\, we will be giving away free produce every 1st and 3rd Thursday of the month. Anyone is welcome to receive groceries for themselves\, a neighbor\, children\, etc. If you specifically do not need groceries\, spread the word so we can get them to those who do! Distributions take place at 1518 Forbes Ave from 12pm-3pm (or until supplies last).
URL:https://www.uptownpartners.org/event/uptown-free-food-distribution-9/
LOCATION:1518 Forbes Ave\, 1518 Forbes Ave.\, Pittsburgh\, PA\, 15219\, United States
END:VEVENT
BEGIN:VEVENT
DTSTART;TZID=UTC:20251218T120000
DTEND;TZID=UTC:20251218T150000
DTSTAMP:20260425T024912
CREATED:20250829T193322Z
LAST-MODIFIED:20250829T193322Z
UID:3323-1766059200-1766070000@www.uptownpartners.org
SUMMARY:Uptown Free Food Distribution
DESCRIPTION:  \nIn collaboration with the Greater Pittsburgh Community Food Bank\, we will be giving away free produce every 1st and 3rd Thursday of the month. Anyone is welcome to receive groceries for themselves\, a neighbor\, children\, etc. If you specifically do not need groceries\, spread the word so we can get them to those who do! Distributions take place at 1518 Forbes Ave from 12pm-3pm (or until supplies last).
URL:https://www.uptownpartners.org/event/uptown-free-food-distribution-10/
LOCATION:1518 Forbes Ave\, 1518 Forbes Ave.\, Pittsburgh\, PA\, 15219\, United States
END:VEVENT
BEGIN:VEVENT
DTSTART;TZID=UTC:20260325T180000
DTEND;TZID=UTC:20260325T193000
DTSTAMP:20260425T024912
CREATED:20260323T175813Z
LAST-MODIFIED:20260323T175813Z
UID:3367-1774461600-1774467000@www.uptownpartners.org
SUMMARY:Uptown Partners Quarterly Community Meeting
DESCRIPTION:  \nJoin us this Wednesday March 25th for our next quarterly community meeting! We’ll hear from a representative from City Planning to discuss community involvement regarding the PGH 2050 Plan\, faculty from Carlow University to discuss their Institutional Master Plan\, members from BNY Mellon to discuss community engagement\, and updates from us at Uptown Partners. We’ll also hear about the proposed Passport Academy Charter School at 1835 Forbes Ave and we want the community’s feedback! All other attendees will have time to share their own updates\, if any\, during the allotted time slot. Attached is the flyer and agenda. If you have any questions\, please reach out to Daschinique Johnson\, djohnson@uptownpartners.org \n  \nZoom Link: https://us02web.zoom.us/j/84485190019
URL:https://www.uptownpartners.org/event/uptown-partners-quarterly-community-meeting-3/
LOCATION:https://us02web.zoom.us/j/84485190019
END:VEVENT
END:VCALENDAR